BEGIN:VCALENDAR
VERSION:2.0
PRODID:Events Booking
BEGIN:VEVENT
UID:69eb8eae7aa7f
SUMMARY:offener Achtsamkeitsabend
DESCRIPTION:Unterstützung\, Vertiefung oder auch Neubelebung deiner Achtsa
 mkeitspraxis. Achtsamkeitspraxis kann als eine Art universelles Werkzeug z
 um Umgang mit jedweden Erfahrungszuständen angesehen werden. Sie zeigt un
 s\, welche Vorteile es hat\, wenn wir Achtsamkeit in unserem Leben entfalt
 en und wie hilfreich es bei der Überwindung so ziemlich jeder Herausforde
 rung ist und nimmt auch im klassischen Tantra eine bedeutende Rolle ein. U
 m Achtsamkeit in unserem Alltag zu verankern und unsere Erlebnisgewohnheit
 en tatsächlich nachhaltig zu verändern\, empfiehlt es sich\, gelegentlic
 h oder regelmäßig den Austausch mit einer Gemeinschaft der Übenden zu n
 utzen.
 Die Veranstaltung ist kostenlos.
 Im Sinne von Dana besteht die 
 Möglichkeit\, eine Spende dazulassen.
LOCATION:Dammstraße 14a\, Duisburg\, 47119 Nordrhein-Westfalen\, Deutschla
 nd
DTSTART:20261202T180000Z
DTEND:20261202T200000Z
DTSTAMP:20241104T060826Z
ORGANIZER;CN=LebensArt Tantra:MAILTO:tantra@lebensart-duisburg.info
GEO:51.452556;6.731008
X-APPLE-STRUCTURED-LOCATION;VALUE=URI;X-ADDRESS=Dammstraße 14a\, Duisburg\
 , 47119 Nordrhein-Westfalen\, Deutschland;X-APPLE-RADIUS=72;X-TITLE=Lebens
 Art Duisburg:51.452556;6.731008
END:VEVENT
END:VCALENDAR