BEGIN:VCALENDAR
VERSION:2.0
PRODID:Events Booking
BEGIN:VEVENT
UID:69eb7c2facb79
SUMMARY:Lasya Tandava
DESCRIPTION:Die Tandava Meditation dient der Erfahrung des Raumes\, der wir
  sind.&nbsp\;Tandava wird auch \"der Yoga der Gefühle\" genannt\, und mac
 ht den Geist damit vertraut\, ohne Anhaftung allen Gefühlen und Gedanken 
 in uns zu begegnen\, die aufkommen wollen.
 Die Veranstaltung ist kostenl
 os. Im Sinne von Dana besteht die Möglichkeit\, eine Spende zu hinterlass
 en.
 Mit deiner Anmeldung erhälst du auch Zugriff auf weitere Infomateri
 alien zum kaschmirischen Tantra.
LOCATION:Dammstraße 14a\, Duisburg\, 47119 Nordrhein-Westfalen\, Deutschla
 nd
DTSTART:20260513T170000Z
DTEND:20260513T190000Z
DTSTAMP:20231206T091029Z
ORGANIZER;CN=LebensArt Tantra:MAILTO:tantra@lebensart-duisburg.info
GEO:51.452556;6.731008
X-APPLE-STRUCTURED-LOCATION;VALUE=URI;X-ADDRESS=Dammstraße 14a\, Duisburg\
 , 47119 Nordrhein-Westfalen\, Deutschland;X-APPLE-RADIUS=72;X-TITLE=Lebens
 Art Duisburg:51.452556;6.731008
END:VEVENT
END:VCALENDAR