BEGIN:VCALENDAR
VERSION:2.0
PRODID:Events Booking
BEGIN:VEVENT
UID:69eb7c3b91c83
SUMMARY:kaschmirische Tantraabende
DESCRIPTION:An den kaschmirischen Tantraabenden nehmen wir uns Zeit und Rau
 m\, um uns mit dem Geist des des kaschmirischen Tantra vertraut zu machen 
 und ihn zu vertiefen. Kaschmirisches Tantra&nbsp\;(oder auch: klassisches\
 , nonduales Tantra) ist eine etwa 1500 Jahre alte spirituelle Tradition\, 
 die immer schon als Lebensweise für ein&nbsp\;befreites Leben in der \"We
 lt\"\, also in unser aller Alltagswirklichkeit\, vorgesehen war und ist. D
 iese Lebensweise hat übrigens fast nichts zu tun mit dem\, was vielen vie
 lleicht unter dem Begriff \"Tantra\" bekannt ist (siehe z.B. auch -&gt\;&n
 bsp\;Neotantra&nbsp\;oder -&gt\;&nbsp\;Tantra-Philosophie).
 Im Rahmen de
 r kaschmirischen Tantraabende widmen wir uns der nondualen tantrischen Pra
 xis und Sichtweise mit einfachen Übungen aus dem&nbsp\;Tantra Yoga\, die 
 den Energiekörper stärken und stabilisieren. Hierdurch wird es möglich\
 , diese zunächst meist nur theoretisch erscheinende Wahrnehmungsperspekti
 ve langsam zum tatsächlichen Ausgangpunkt und zur Grundlage unseres Wirkl
 ichkeitserlebens zu machen.&nbsp\;
LOCATION:Dammstraße 14a\, Duisburg\, 47119 Nordrhein-Westfalen\, Deutschla
 nd
DTSTART:20260520T170000Z
DTEND:20260520T190000Z
DTSTAMP:20241019T212450Z
ORGANIZER;CN=LebensArt Tantra:MAILTO:tantra@lebensart-duisburg.info
GEO:51.452556;6.731008
X-APPLE-STRUCTURED-LOCATION;VALUE=URI;X-ADDRESS=Dammstraße 14a\, Duisburg\
 , 47119 Nordrhein-Westfalen\, Deutschland;X-APPLE-RADIUS=72;X-TITLE=Lebens
 Art Duisburg:51.452556;6.731008
END:VEVENT
END:VCALENDAR