BEGIN:VCALENDAR
VERSION:2.0
PRODID:Events Booking
BEGIN:VEVENT
UID:69eb7b7f2ee10
SUMMARY:Deep Rest
DESCRIPTION:Die Deep Rest Meditation ist eine anstrengungslose Form der Ach
 tsamkeitsmeditation\, die im Liegen praktiziert wird. Sie hat das tiefe Ru
 hen im Gewahrsein zum Gegenstand und eignet sich gleichermaßen für Anfä
 nger*innen wie auch für erfahrene Meditierende.
 Im Sinne des Tantra Yog
 a ist das tiefe Ruhen eine Śāmbhava-Praxis (s. auch -&gt\;&nbsp\;https:/
 /tantra-lebensart.de/deep-rest)
 Die Veranstaltung ist kostenlos. 
 Im S
 inne von Dana besteht die Möglichkeit\, eine Spende zu hinterlassen.
LOCATION:Dammstraße 14a\, Duisburg\, 47119 Nordrhein-Westfalen\, Deutschla
 nd
DTSTART:20260722T170000Z
DTEND:20260722T190000Z
DTSTAMP:20231206T074652Z
ORGANIZER;CN=LebensArt Tantra:MAILTO:tantra@lebensart-duisburg.info
GEO:51.452556;6.731008
X-APPLE-STRUCTURED-LOCATION;VALUE=URI;X-ADDRESS=Dammstraße 14a\, Duisburg\
 , 47119 Nordrhein-Westfalen\, Deutschland;X-APPLE-RADIUS=72;X-TITLE=Lebens
 Art Duisburg:51.452556;6.731008
END:VEVENT
END:VCALENDAR